BEGIN:VCALENDAR
VERSION:2.0
PRODID:-//Strings of Green - ECPv6.15.15//NONSGML v1.0//EN
CALSCALE:GREGORIAN
METHOD:PUBLISH
X-ORIGINAL-URL:https://stringsofgreen.com
X-WR-CALDESC:Events for Strings of Green
REFRESH-INTERVAL;VALUE=DURATION:PT1H
X-Robots-Tag:noindex
X-PUBLISHED-TTL:PT1H
BEGIN:VTIMEZONE
TZID:UTC
BEGIN:STANDARD
TZOFFSETFROM:+0000
TZOFFSETTO:+0000
TZNAME:UTC
DTSTART:20250101T000000
END:STANDARD
END:VTIMEZONE
BEGIN:VEVENT
DTSTART;TZID=UTC:20260425T000000
DTEND;TZID=UTC:20260425T235959
DTSTAMP:20260422T115303
CREATED:20260422T021231Z
LAST-MODIFIED:20260422T021452Z
UID:649-1777075200-1777161599@stringsofgreen.com
SUMMARY:Merlefest - Andy May Acoustic Kids Showcase
DESCRIPTION:Showcase #1 @ the dance stage 11:00am \nShowcase#2 @ the cabin stage (beside main stage) 3:15pm
URL:https://stringsofgreen.com/event/merlefest-andy-may-acoustic-kids-showcase/
LOCATION:Wilkes Community College\, 1328 South Collegiate Dr\, Wilkesboro\, NC\, 28697\, United States
END:VEVENT
BEGIN:VEVENT
DTSTART;TZID=UTC:20260428T190000
DTEND;TZID=UTC:20260428T210000
DTSTAMP:20260422T115303
CREATED:20260407T222937Z
LAST-MODIFIED:20260407T222937Z
UID:619-1777402800-1777410000@stringsofgreen.com
SUMMARY:New Life Baptist Church
DESCRIPTION:Revival Services
URL:https://stringsofgreen.com/event/new-life-baptist-church/
LOCATION:New Life Baptist Church\, 935 Hinton Rd\, White Oak\, WV\, 25989\, United States
END:VEVENT
END:VCALENDAR