BEGIN:VCALENDAR
VERSION:2.0
PRODID:-//Strings of Green - ECPv6.15.15//NONSGML v1.0//EN
CALSCALE:GREGORIAN
METHOD:PUBLISH
X-WR-CALNAME:Strings of Green
X-ORIGINAL-URL:https://stringsofgreen.com
X-WR-CALDESC:Events for Strings of Green
REFRESH-INTERVAL;VALUE=DURATION:PT1H
X-Robots-Tag:noindex
X-PUBLISHED-TTL:PT1H
BEGIN:VTIMEZONE
TZID:UTC
BEGIN:STANDARD
TZOFFSETFROM:+0000
TZOFFSETTO:+0000
TZNAME:UTC
DTSTART:20250101T000000
END:STANDARD
END:VTIMEZONE
BEGIN:VEVENT
DTSTART;TZID=UTC:20260321T190000
DTEND;TZID=UTC:20260321T210000
DTSTAMP:20260422T132010
CREATED:20260217T235458Z
LAST-MODIFIED:20260217T235458Z
UID:570-1774119600-1774126800@stringsofgreen.com
SUMMARY:Sunrise Baptist Church
DESCRIPTION:
URL:https://stringsofgreen.com/event/sunrise-baptist-church/
LOCATION:Sunrise Baptist Church\, 1874 Kopperston Rd.\, Oceana\, WV\, 25845\, United States
END:VEVENT
BEGIN:VEVENT
DTSTART;TZID=UTC:20260322T180000
DTEND;TZID=UTC:20260322T190000
DTSTAMP:20260422T132010
CREATED:20260217T235703Z
LAST-MODIFIED:20260217T235703Z
UID:573-1774202400-1774206000@stringsofgreen.com
SUMMARY:Bennett Memorial Chapel
DESCRIPTION:
URL:https://stringsofgreen.com/event/bennett-memorial-chapel/
LOCATION:Bennett Memorial Chapel\, 1477 Tug Creek Connection Rd\, Hinton\, WV\, 25951\, United States
END:VEVENT
BEGIN:VEVENT
DTSTART;TZID=UTC:20260328T170000
DTEND;TZID=UTC:20260328T190000
DTSTAMP:20260422T132010
CREATED:20260217T235931Z
LAST-MODIFIED:20260217T235931Z
UID:576-1774717200-1774724400@stringsofgreen.com
SUMMARY:Old Time Gospel Sing - Calloway Heights Baptist Church
DESCRIPTION:
URL:https://stringsofgreen.com/event/old-time-gospel-sing-calloway-heights-baptist-church/
LOCATION:Calloway Heights Baptist Church\, 132 Rural Acres Dr\, Beckley\, WV\, 25801\, United States
END:VEVENT
BEGIN:VEVENT
DTSTART;TZID=UTC:20260329T110000
DTEND;TZID=UTC:20260329T133000
DTSTAMP:20260422T132010
CREATED:20260218T000124Z
LAST-MODIFIED:20260218T000124Z
UID:579-1774782000-1774791000@stringsofgreen.com
SUMMARY:Millbrook Baptist Church
DESCRIPTION:
URL:https://stringsofgreen.com/event/millbrook-baptist-church/
LOCATION:Millbrook Baptist Church\, 3207 Smokey Branch Rd\, Danese\, WV\, 25831\, United States
END:VEVENT
END:VCALENDAR