BEGIN:VCALENDAR
VERSION:2.0
PRODID:-//Strings of Green - ECPv6.15.15//NONSGML v1.0//EN
CALSCALE:GREGORIAN
METHOD:PUBLISH
X-ORIGINAL-URL:https://stringsofgreen.com
X-WR-CALDESC:Events for Strings of Green
REFRESH-INTERVAL;VALUE=DURATION:PT1H
X-Robots-Tag:noindex
X-PUBLISHED-TTL:PT1H
BEGIN:VTIMEZONE
TZID:UTC
BEGIN:STANDARD
TZOFFSETFROM:+0000
TZOFFSETTO:+0000
TZNAME:UTC
DTSTART:20250101T000000
END:STANDARD
END:VTIMEZONE
BEGIN:VEVENT
DTSTART;TZID=UTC:20260605T000000
DTEND;TZID=UTC:20260605T235959
DTSTAMP:20260422T230006
CREATED:20260422T015655Z
LAST-MODIFIED:20260422T015655Z
UID:642-1780617600-1780703999@stringsofgreen.com
SUMMARY:Private Event
DESCRIPTION:
URL:https://stringsofgreen.com/event/private-event/
LOCATION:WV
END:VEVENT
BEGIN:VEVENT
DTSTART;TZID=UTC:20260606T120000
DTEND;TZID=UTC:20260606T140000
DTSTAMP:20260422T230006
CREATED:20260422T020512Z
LAST-MODIFIED:20260422T020512Z
UID:644-1780747200-1780754400@stringsofgreen.com
SUMMARY:Eastwood Volunteer Fire Department- Ice Cream Social
DESCRIPTION:Food\, Music & Fun at the Eastwood Volunteer Fire Department in Davisville\, WV. \nStrings of Green perform from 12-2.
URL:https://stringsofgreen.com/event/eastwood-volunteer-fire-department-ice-cream-social/
LOCATION:Eastwood Volunteer Fire Department\, 6016 Staunton Turnpike\, Davisville\, WV\, 26142\, United States
END:VEVENT
END:VCALENDAR