BEGIN:VCALENDAR
VERSION:2.0
PRODID:-//Strings of Green - ECPv6.15.15//NONSGML v1.0//EN
CALSCALE:GREGORIAN
METHOD:PUBLISH
X-ORIGINAL-URL:https://stringsofgreen.com
X-WR-CALDESC:Events for Strings of Green
REFRESH-INTERVAL;VALUE=DURATION:PT1H
X-Robots-Tag:noindex
X-PUBLISHED-TTL:PT1H
BEGIN:VTIMEZONE
TZID:UTC
BEGIN:STANDARD
TZOFFSETFROM:+0000
TZOFFSETTO:+0000
TZNAME:UTC
DTSTART:20250101T000000
END:STANDARD
END:VTIMEZONE
BEGIN:VEVENT
DTSTART;TZID=UTC:20260412T100000
DTEND;TZID=UTC:20260412T230000
DTSTAMP:20260422T220327
CREATED:20260321T171831Z
LAST-MODIFIED:20260321T171831Z
UID:586-1775988000-1776034800@stringsofgreen.com
SUMMARY:Chestnut Knob Christian Church
DESCRIPTION:
URL:https://stringsofgreen.com/event/chestnut-knob-christian-church/
LOCATION:Chestnut Knob Christian Church\, 892 Chestnut Knob Rd\, Danese\, 25831\, United States
END:VEVENT
BEGIN:VEVENT
DTSTART;TZID=UTC:20260418T180000
DTEND;TZID=UTC:20260418T190000
DTSTAMP:20260422T220327
CREATED:20260321T172053Z
LAST-MODIFIED:20260321T172053Z
UID:589-1776535200-1776538800@stringsofgreen.com
SUMMARY:Chestnut knob Baptist
DESCRIPTION:
URL:https://stringsofgreen.com/event/chestnut-knob-baptist/
LOCATION:Chestnut knob Baptist\, 1949 Chestnut Knob Rd\, Danese\, WV\, 25831\, United States
END:VEVENT
BEGIN:VEVENT
DTSTART;TZID=UTC:20260419T110000
DTEND;TZID=UTC:20260419T120000
DTSTAMP:20260422T220327
CREATED:20260321T172232Z
LAST-MODIFIED:20260321T172318Z
UID:592-1776596400-1776600000@stringsofgreen.com
SUMMARY:House of Prayer
DESCRIPTION:
URL:https://stringsofgreen.com/event/house-of-prayer/
LOCATION:House of Prayer\, 319 E Railroad Ave\, Coal City\, WV\, 25801\, United States
END:VEVENT
BEGIN:VEVENT
DTSTART;TZID=UTC:20260425T000000
DTEND;TZID=UTC:20260425T235959
DTSTAMP:20260422T220327
CREATED:20260422T021231Z
LAST-MODIFIED:20260422T021452Z
UID:649-1777075200-1777161599@stringsofgreen.com
SUMMARY:Merlefest - Andy May Acoustic Kids Showcase
DESCRIPTION:Showcase #1 @ the dance stage 11:00am \nShowcase#2 @ the cabin stage (beside main stage) 3:15pm
URL:https://stringsofgreen.com/event/merlefest-andy-may-acoustic-kids-showcase/
LOCATION:Wilkes Community College\, 1328 South Collegiate Dr\, Wilkesboro\, NC\, 28697\, United States
END:VEVENT
BEGIN:VEVENT
DTSTART;TZID=UTC:20260428T190000
DTEND;TZID=UTC:20260428T210000
DTSTAMP:20260422T220327
CREATED:20260407T222937Z
LAST-MODIFIED:20260407T222937Z
UID:619-1777402800-1777410000@stringsofgreen.com
SUMMARY:New Life Baptist Church
DESCRIPTION:Revival Services
URL:https://stringsofgreen.com/event/new-life-baptist-church/
LOCATION:New Life Baptist Church\, 935 Hinton Rd\, White Oak\, WV\, 25989\, United States
END:VEVENT
BEGIN:VEVENT
DTSTART;TZID=UTC:20260503T101500
DTEND;TZID=UTC:20260503T111500
DTSTAMP:20260422T220327
CREATED:20260321T172618Z
LAST-MODIFIED:20260321T172654Z
UID:595-1777803300-1777806900@stringsofgreen.com
SUMMARY:West Raleigh Baptist Homecoming
DESCRIPTION:
URL:https://stringsofgreen.com/event/west-raleigh-baptist-homecoming/
LOCATION:West Raleigh Baptist Church\, 503 Burmeister Ave\, Beckley\, WV\, 25801\, United States
END:VEVENT
BEGIN:VEVENT
DTSTART;TZID=UTC:20260509T180000
DTEND;TZID=UTC:20260509T190000
DTSTAMP:20260422T220327
CREATED:20260406T211948Z
LAST-MODIFIED:20260406T211948Z
UID:602-1778349600-1778353200@stringsofgreen.com
SUMMARY:Mt sterling bluegrass jamboree
DESCRIPTION:
URL:https://stringsofgreen.com/event/mt-sterling-bluegrass-jamboree/
LOCATION:Mt sterling bluegrass jamboree\, 26 East Main Street\, Mt. Sterling\, OH\, 43143\, United States
END:VEVENT
BEGIN:VEVENT
DTSTART;TZID=UTC:20260510T110000
DTEND;TZID=UTC:20260510T120000
DTSTAMP:20260422T220327
CREATED:20260406T212250Z
LAST-MODIFIED:20260406T212250Z
UID:606-1778410800-1778414400@stringsofgreen.com
SUMMARY:Amazing Grace Worship Center
DESCRIPTION:
URL:https://stringsofgreen.com/event/amazing-grace-worship-center/
LOCATION:Amazing Grace Worship Center\, 210 First Ave\, Midway\, WV\, 25827\, United States
END:VEVENT
BEGIN:VEVENT
DTSTART;TZID=UTC:20260516T140000
DTEND;TZID=UTC:20260516T160000
DTSTAMP:20260422T220327
CREATED:20260406T212649Z
LAST-MODIFIED:20260406T212649Z
UID:609-1778940000-1778947200@stringsofgreen.com
SUMMARY:Maple Meadow Chapel
DESCRIPTION:Outdoor singing and hot dog sale
URL:https://stringsofgreen.com/event/maple-meadow-chapel/
LOCATION:Maple Meadow Chapel\, 126 Hollandale Ave\, Fairdale\, WV\, 25839\, United States
END:VEVENT
BEGIN:VEVENT
DTSTART;TZID=UTC:20260517T103000
DTEND;TZID=UTC:20260517T113000
DTSTAMP:20260422T220327
CREATED:20260406T212859Z
LAST-MODIFIED:20260406T212859Z
UID:612-1779013800-1779017400@stringsofgreen.com
SUMMARY:Stanaford New Beginnings Church
DESCRIPTION:
URL:https://stringsofgreen.com/event/stanaford-new-beginnings-church/
LOCATION:Stanaford New Beginnings Church\, 1151 Stanaford Rd\, Beckley\, WV\, 25801\, United States
END:VEVENT
BEGIN:VEVENT
DTSTART;TZID=UTC:20260523T000000
DTEND;TZID=UTC:20260523T235959
DTSTAMP:20260422T220327
CREATED:20260422T012812Z
LAST-MODIFIED:20260422T012812Z
UID:626-1779494400-1779580799@stringsofgreen.com
SUMMARY:Youth in Bluegrass Contest
DESCRIPTION:https://www.ozarkmountainmusicassociation.com/contest
URL:https://stringsofgreen.com/event/youth-in-bluegrass-contest/
LOCATION:Branson Event Center\, 2527 State Highway 248\, Branson\, MO\, 65616\, United States
END:VEVENT
BEGIN:VEVENT
DTSTART;TZID=UTC:20260530T183000
DTEND;TZID=UTC:20260530T200000
DTSTAMP:20260422T220327
CREATED:20260406T213043Z
LAST-MODIFIED:20260406T213043Z
UID:615-1780165800-1780171200@stringsofgreen.com
SUMMARY:Cornerstone Restaurant
DESCRIPTION:
URL:https://stringsofgreen.com/event/cornerstone-restaurant/
LOCATION:Cornerstone Restaurant\, 201 5th Street\, Beverly\, OH\, 45715\, United States
END:VEVENT
BEGIN:VEVENT
DTSTART;TZID=UTC:20260531T110000
DTEND;TZID=UTC:20260531T130000
DTSTAMP:20260422T220327
CREATED:20260422T013941Z
LAST-MODIFIED:20260422T013941Z
UID:630-1780225200-1780232400@stringsofgreen.com
SUMMARY:Meigs Church of Christ
DESCRIPTION:Worship Service with Meigs Church of Christ
URL:https://stringsofgreen.com/event/meigs-church-of-christ/
LOCATION:Meigs Church of Christ\, 1440 St Rt 78\, McConnelsville\, OH\, United States
END:VEVENT
BEGIN:VEVENT
DTSTART;TZID=UTC:20260531T180000
DTEND;TZID=UTC:20260531T190000
DTSTAMP:20260422T220327
CREATED:20260422T014518Z
LAST-MODIFIED:20260422T014518Z
UID:635-1780250400-1780254000@stringsofgreen.com
SUMMARY:Chesterhill Church of Christ
DESCRIPTION:Worship Service with Chesterhill Church of Christ
URL:https://stringsofgreen.com/event/chesterhill-church-of-christ/
LOCATION:Chesterhill Church of Christ\, 7675 Marion St\, Chesterhill\, OH\, 43728\, United States
END:VEVENT
BEGIN:VEVENT
DTSTART;TZID=UTC:20260602T190000
DTEND;TZID=UTC:20260602T210000
DTSTAMP:20260422T220327
CREATED:20260422T015524Z
LAST-MODIFIED:20260422T015524Z
UID:640-1780426800-1780434000@stringsofgreen.com
SUMMARY:West Raleigh Baptist Church (Revival)
DESCRIPTION:
URL:https://stringsofgreen.com/event/west-raleigh-baptist-church-revival/
LOCATION:West Raleigh Baptist Church\, 503 Burmeister Ave\, Beckley\, WV\, 25801\, United States
END:VEVENT
BEGIN:VEVENT
DTSTART;TZID=UTC:20260605T000000
DTEND;TZID=UTC:20260605T235959
DTSTAMP:20260422T220327
CREATED:20260422T015655Z
LAST-MODIFIED:20260422T015655Z
UID:642-1780617600-1780703999@stringsofgreen.com
SUMMARY:Private Event
DESCRIPTION:
URL:https://stringsofgreen.com/event/private-event/
LOCATION:WV
END:VEVENT
BEGIN:VEVENT
DTSTART;TZID=UTC:20260606T120000
DTEND;TZID=UTC:20260606T140000
DTSTAMP:20260422T220327
CREATED:20260422T020512Z
LAST-MODIFIED:20260422T020512Z
UID:644-1780747200-1780754400@stringsofgreen.com
SUMMARY:Eastwood Volunteer Fire Department- Ice Cream Social
DESCRIPTION:Food\, Music & Fun at the Eastwood Volunteer Fire Department in Davisville\, WV. \nStrings of Green perform from 12-2.
URL:https://stringsofgreen.com/event/eastwood-volunteer-fire-department-ice-cream-social/
LOCATION:Eastwood Volunteer Fire Department\, 6016 Staunton Turnpike\, Davisville\, WV\, 26142\, United States
END:VEVENT
END:VCALENDAR