BEGIN:VCALENDAR
VERSION:2.0
PRODID:-//Strings of Green - ECPv6.15.15//NONSGML v1.0//EN
CALSCALE:GREGORIAN
METHOD:PUBLISH
X-WR-CALNAME:Strings of Green
X-ORIGINAL-URL:https://stringsofgreen.com
X-WR-CALDESC:Events for Strings of Green
REFRESH-INTERVAL;VALUE=DURATION:PT1H
X-Robots-Tag:noindex
X-PUBLISHED-TTL:PT1H
BEGIN:VTIMEZONE
TZID:America/New_York
BEGIN:DAYLIGHT
TZOFFSETFROM:-0500
TZOFFSETTO:-0400
TZNAME:EDT
DTSTART:20250309T070000
END:DAYLIGHT
BEGIN:STANDARD
TZOFFSETFROM:-0400
TZOFFSETTO:-0500
TZNAME:EST
DTSTART:20251102T060000
END:STANDARD
BEGIN:DAYLIGHT
TZOFFSETFROM:-0500
TZOFFSETTO:-0400
TZNAME:EDT
DTSTART:20260308T070000
END:DAYLIGHT
BEGIN:STANDARD
TZOFFSETFROM:-0400
TZOFFSETTO:-0500
TZNAME:EST
DTSTART:20261101T060000
END:STANDARD
BEGIN:DAYLIGHT
TZOFFSETFROM:-0500
TZOFFSETTO:-0400
TZNAME:EDT
DTSTART:20270314T070000
END:DAYLIGHT
BEGIN:STANDARD
TZOFFSETFROM:-0400
TZOFFSETTO:-0500
TZNAME:EST
DTSTART:20271107T060000
END:STANDARD
END:VTIMEZONE
BEGIN:VTIMEZONE
TZID:UTC
BEGIN:STANDARD
TZOFFSETFROM:+0000
TZOFFSETTO:+0000
TZNAME:UTC
DTSTART:20250101T000000
END:STANDARD
END:VTIMEZONE
BEGIN:VEVENT
DTSTART;TZID=America/New_York:20260215T103000
DTEND;TZID=America/New_York:20260215T120000
DTSTAMP:20260422T204013
CREATED:20260203T040015Z
LAST-MODIFIED:20260203T040015Z
UID:190-1771151400-1771156800@stringsofgreen.com
SUMMARY:Abundant Life Baptist Church Worship Service
DESCRIPTION:
URL:https://stringsofgreen.com/event/abundant-life-baptist-church-worship-service/
LOCATION:Abundant Life Baptist Church\, 269 Cameron Road\, Washington\, 15301\, United States
END:VEVENT
BEGIN:VEVENT
DTSTART;TZID=UTC:20260214T060000
DTEND;TZID=UTC:20260214T210000
DTSTAMP:20260422T204013
CREATED:20260203T035658Z
LAST-MODIFIED:20260203T035658Z
UID:187-1771048800-1771102800@stringsofgreen.com
SUMMARY:An Evening to Remember
DESCRIPTION:Reception/appetizers\, Music\,Comedy and a special gift for each family
URL:https://stringsofgreen.com/event/an-evening-to-remember/
LOCATION:Abundant Life Baptist Church\, 269 Cameron Road\, Washington\, 15301\, United States
END:VEVENT
BEGIN:VEVENT
DTSTART;TZID=UTC:20260208T100000
DTEND;TZID=UTC:20260208T120000
DTSTAMP:20260422T204013
CREATED:20260203T040642Z
LAST-MODIFIED:20260203T040642Z
UID:192-1770544800-1770552000@stringsofgreen.com
SUMMARY:West Raleigh Baptist Church Worship Service
DESCRIPTION:
URL:https://stringsofgreen.com/event/west-raleigh-baptist-church-worship-service/
LOCATION:West Raleigh Baptist Church\, 503 Burmeister Ave\, Beckley\, WV\, 25801\, United States
END:VEVENT
END:VCALENDAR