BEGIN:VCALENDAR
VERSION:2.0
PRODID:-//Strings of Green - ECPv6.15.15//NONSGML v1.0//EN
CALSCALE:GREGORIAN
METHOD:PUBLISH
X-ORIGINAL-URL:https://stringsofgreen.com
X-WR-CALDESC:Events for Strings of Green
REFRESH-INTERVAL;VALUE=DURATION:PT1H
X-Robots-Tag:noindex
X-PUBLISHED-TTL:PT1H
BEGIN:VTIMEZONE
TZID:UTC
BEGIN:STANDARD
TZOFFSETFROM:+0000
TZOFFSETTO:+0000
TZNAME:UTC
DTSTART:20250101T000000
END:STANDARD
END:VTIMEZONE
BEGIN:VEVENT
DTSTART;TZID=UTC:20260530T183000
DTEND;TZID=UTC:20260530T200000
DTSTAMP:20260422T143728
CREATED:20260406T213043Z
LAST-MODIFIED:20260406T213043Z
UID:615-1780165800-1780171200@stringsofgreen.com
SUMMARY:Cornerstone Restaurant
DESCRIPTION:
URL:https://stringsofgreen.com/event/cornerstone-restaurant/
LOCATION:Cornerstone Restaurant\, 201 5th Street\, Beverly\, OH\, 45715\, United States
END:VEVENT
END:VCALENDAR