BEGIN:VCALENDAR
VERSION:2.0
PRODID:-//Strings of Green - ECPv6.15.15//NONSGML v1.0//EN
CALSCALE:GREGORIAN
METHOD:PUBLISH
X-WR-CALNAME:Strings of Green
X-ORIGINAL-URL:https://stringsofgreen.com
X-WR-CALDESC:Events for Strings of Green
REFRESH-INTERVAL;VALUE=DURATION:PT1H
X-Robots-Tag:noindex
X-PUBLISHED-TTL:PT1H
BEGIN:VTIMEZONE
TZID:UTC
BEGIN:STANDARD
TZOFFSETFROM:+0000
TZOFFSETTO:+0000
TZNAME:UTC
DTSTART:20250101T000000
END:STANDARD
END:VTIMEZONE
BEGIN:VEVENT
DTSTART;TZID=UTC:20260509T180000
DTEND;TZID=UTC:20260509T190000
DTSTAMP:20260422T143621
CREATED:20260406T211948Z
LAST-MODIFIED:20260406T211948Z
UID:602-1778349600-1778353200@stringsofgreen.com
SUMMARY:Mt sterling bluegrass jamboree
DESCRIPTION:
URL:https://stringsofgreen.com/event/mt-sterling-bluegrass-jamboree/
LOCATION:Mt sterling bluegrass jamboree\, 26 East Main Street\, Mt. Sterling\, OH\, 43143\, United States
END:VEVENT
END:VCALENDAR