BEGIN:VCALENDAR
VERSION:2.0
PRODID:-//Strings of Green - ECPv6.15.15//NONSGML v1.0//EN
CALSCALE:GREGORIAN
METHOD:PUBLISH
X-WR-CALNAME:Strings of Green
X-ORIGINAL-URL:https://stringsofgreen.com
X-WR-CALDESC:Events for Strings of Green
REFRESH-INTERVAL;VALUE=DURATION:PT1H
X-Robots-Tag:noindex
X-PUBLISHED-TTL:PT1H
BEGIN:VTIMEZONE
TZID:UTC
BEGIN:STANDARD
TZOFFSETFROM:+0000
TZOFFSETTO:+0000
TZNAME:UTC
DTSTART:20250101T000000
END:STANDARD
END:VTIMEZONE
BEGIN:VEVENT
DTSTART;TZID=UTC:20260503T101500
DTEND;TZID=UTC:20260503T111500
DTSTAMP:20260422T130154
CREATED:20260321T172618Z
LAST-MODIFIED:20260321T172654Z
UID:595-1777803300-1777806900@stringsofgreen.com
SUMMARY:West Raleigh Baptist Homecoming
DESCRIPTION:
URL:https://stringsofgreen.com/event/west-raleigh-baptist-homecoming/
LOCATION:West Raleigh Baptist Church\, 503 Burmeister Ave\, Beckley\, WV\, 25801\, United States
END:VEVENT
END:VCALENDAR