BEGIN:VCALENDAR
VERSION:2.0
PRODID:-//Strings of Green - ECPv6.15.15//NONSGML v1.0//EN
CALSCALE:GREGORIAN
METHOD:PUBLISH
X-WR-CALNAME:Strings of Green
X-ORIGINAL-URL:https://stringsofgreen.com
X-WR-CALDESC:Events for Strings of Green
REFRESH-INTERVAL;VALUE=DURATION:PT1H
X-Robots-Tag:noindex
X-PUBLISHED-TTL:PT1H
BEGIN:VTIMEZONE
TZID:UTC
BEGIN:STANDARD
TZOFFSETFROM:+0000
TZOFFSETTO:+0000
TZNAME:UTC
DTSTART:20250101T000000
END:STANDARD
END:VTIMEZONE
BEGIN:VEVENT
DTSTART;TZID=UTC:20260228T190000
DTEND;TZID=UTC:20260228T210000
DTSTAMP:20260422T143550
CREATED:20260217T235115Z
LAST-MODIFIED:20260217T235115Z
UID:567-1772305200-1772312400@stringsofgreen.com
SUMMARY:Truth Assembly Church Special Services Feb 28
DESCRIPTION:
URL:https://stringsofgreen.com/event/truth-assembly-church-special-services-feb-28/
LOCATION:Truth Assembly Church\, 67 Branch Fork Rd.\, Glen Fork\, WV\, 25845\, United States
END:VEVENT
END:VCALENDAR