BEGIN:VCALENDAR
VERSION:2.0
PRODID:-//Strings of Green - ECPv6.15.15//NONSGML v1.0//EN
CALSCALE:GREGORIAN
METHOD:PUBLISH
X-ORIGINAL-URL:https://stringsofgreen.com
X-WR-CALDESC:Events for Strings of Green
REFRESH-INTERVAL;VALUE=DURATION:PT1H
X-Robots-Tag:noindex
X-PUBLISHED-TTL:PT1H
BEGIN:VTIMEZONE
TZID:UTC
BEGIN:STANDARD
TZOFFSETFROM:+0000
TZOFFSETTO:+0000
TZNAME:UTC
DTSTART:20250101T000000
END:STANDARD
END:VTIMEZONE
BEGIN:VEVENT
DTSTART;TZID=UTC:20260222T150000
DTEND;TZID=UTC:20260222T170000
DTSTAMP:20260422T161104
CREATED:20260216T165634Z
LAST-MODIFIED:20260216T165735Z
UID:507-1771772400-1771779600@stringsofgreen.com
SUMMARY:Ohio Valley Opry
DESCRIPTION:Join us for a great afternoon of live music featuring your favorite Ohio Valley Opry regular performers\, along with special guests Strings of Green — a talented bluegrass family band based out of Beckley\, WV. Enjoy heartfelt harmonies\, lively picking\, and a true down-home sound that’s perfect for a Saturday at the OVO! \nNote:  One show only\, at 3pm.  No late show on Feb 21st. \nGet tickets here
URL:https://stringsofgreen.com/event/ohio-valley-opry/
LOCATION:Ohio Valley Opry\, 1944 Washington Blvd\, Belpre\, OH\, 45714\, United States
ORGANIZER;CN="Ohio Valley Opry":MAILTO:ohiovalleyopry@gmail.com
END:VEVENT
END:VCALENDAR